Workbook
Name Excel_BuiltIn__FilterDatabase: 'АНСАМБЛЬ_Ф-3-СМЕШАН'!$1:$522
Name Excel_BuiltIn__FilterDatabase: 'СОЛО_Ф-1'!$1:$525
Name Excel_BuiltIn__FilterDatabase: 'СОЛО_Ф-2'!$4:$525
Name Excel_BuiltIn__FilterDatabase: 'СОЛО_Ф-6'!$1:$525
Name Excel_BuiltIn__FilterDatabase: 'СОЛО_Ф-7'!$1:$525

Sheet СОЛО_Ф-1
A1: № | B1: ФИО участника | C1: Номинация | D1: Дата рождения | E1: Возраст/возрастная группа | F1: ФИО руководителя | G1: ФИО концертмейстера | H1: Учреждение | I1: Программа | J1: Телефон | K1: e mail | L1: Квитанция об оплате
A2: 1 | C2: Фольклорное исполнительство(соло) | E2: до 6 лет (соло)
A3: 2 | C3: Фольклорное исполнительство(соло) | E3: до 6 лет (соло)
A4: 3 | C4: Фольклорное исполнительство(соло) | E4: до 6 лет (соло)
A5: 4 | C5: Фольклорное исполнительство(соло) | E5: до 6 лет (соло)
A6: 5 | C6: Фольклорное исполнительство(соло) | E6: до 6 лет (соло)
A7: 6 | C7: Фольклорное исполнительство(соло) | E7: до 6 лет (соло)
A8: 7 | C8: Фольклорное исполнительство(соло) | E8: до 6 лет (соло)
A9: 8 | C9: Фольклорное исполнительство(соло) | E9: до 6 лет (соло)
A10: 9 | C10: Фольклорное исполнительство(соло) | E10: до 6 лет (соло)
A11: 10 | C11: Фольклорное исполнительство(соло) | E11: до 6 лет (соло)
A12: 11
A13: 12
A14: 13
A15: 14
A16: 15
A17: 16
A18: 17
A19: 18
A20: 19
A21: 20
A22: 21
A23: 22
... A68: 67
A69: 68 | X69: ГБОУ г.Москвы ДШИ "Тутти" | Y69: Кожевникова Наталия Орестовна | Z69: ГБОУ г.Москвы ДШИ "Тутти" | AA69: Кожевникова Наталия Орестовна | AB69: ГБОУ г.Москвы ДШИ "Тутти" | AC69: Кожевникова Наталия Орестовна | AD69: ГБОУ г.Москвы ДШИ "Тутти" | AE69: Кожевникова Наталия Орестовна | AF69: ГБОУ г.Москвы ДШИ "Тутти" | AG69: Кожевникова Наталия Орестовна | AH69: ГБОУ г.Москвы ДШИ "Тутти" | AI69: Кожевникова Наталия Орестовна | AJ69: ГБОУ г.Москвы ДШИ "Тутти" | AK69: Кожевникова Наталия Орестовна | AL69: ГБОУ г.Москвы ДШИ "Тутти" | AM69: Кожевникова Наталия Орестовна | AN69: ГБОУ г.Москвы ДШИ "Тутти" | AO69: Кожевникова Наталия Орестовна | AP69: ГБОУ г.Москвы ДШИ "Тутти" | AQ69: Кожевникова Наталия Орестовна | AR69: ГБОУ г.Москвы ДШИ "Тутти" | AS69: Кожевникова Наталия Орестовна | AT69: ГБОУ г.Москвы ДШИ "Тутти" | AU69: Кожевникова Наталия Орестовна | AV69: ГБОУ г.Москвы ДШИ "Тутти" | AW69: Кожевникова Наталия Орестовна | AX69: ГБОУ г.Москвы ДШИ "Тутти" | AY69: Кожевникова Наталия Орестовна | AZ69: ГБОУ г.Москвы ДШИ "Тутти" | BA69: Кожевникова Наталия Орестовна | BB69: ГБОУ г.Москвы ДШИ "Тутти" | BC69: Кожевникова Наталия Орестовна | BD69: ГБОУ г.Москвы ДШИ "Тутти" | BE69: Кожевникова Наталия Орестовна | BF69: ГБОУ г.Москвы ДШИ "Тутти" | BG69: Кожевникова Наталия Орестовна | BH69: ГБОУ г.Москвы ДШИ "Тутти" | BI69: Кожевникова Наталия Орестовна | BJ69: ГБОУ г.Москвы ДШИ "Тутти" | BK69: Кожевникова Наталия Орестовна | BL69: ГБОУ г.Москвы ДШИ "Тутти" | BM69: Кожевникова Наталия Орестовна | BN69: ГБОУ г.Москвы ДШИ "Тутти" | BO69: Кожевникова Наталия Орестовна | BP69: ГБОУ г.Москвы ДШИ "Тутти" | BQ69: Кожевникова Наталия Орестовна | BR69: ГБОУ г.Москвы ДШИ "Тутти" | BS69: Кожевникова Наталия Орестовна | BT69: ГБОУ г.Москвы ДШИ "Тутти" | BU69: Кожевникова Наталия Орестовна | BV69: ГБОУ г.Москвы ДШИ "Тутти" | BW69: Кожевникова Наталия Орестовна | BX69: ГБОУ г.Москвы ДШИ "Тутти" | BY69: Кожевникова Наталия Орестовна | BZ69: ГБОУ г.Москвы ДШИ "Тутти" | CA69: Кожевникова Наталия Орестовна | CB69: ГБОУ г.Москвы ДШИ "Тутти" | CC69: Кожевникова Наталия Орестовна | CD69: ГБОУ г.Москвы ДШИ "Тутти" | CE69: Кожевникова Наталия Орестовна | CF69: ГБОУ г.Москвы ДШИ "Тутти" | CG69: Кожевникова Наталия Орестовна | CH69: ГБОУ г.Москвы ДШИ "Тутти" | CI69: Кожевникова Наталия Орестовна | CJ69: ГБОУ г.Москвы ДШИ "Тутти" | CK69: Кожевникова Наталия Орестовна | CL69: ГБОУ г.Москвы ДШИ "Тутти" | CM69: Кожевникова Наталия Орестовна | CN69: ГБОУ г.Москвы ДШИ "Тутти" | CO69: Кожевникова Наталия Орестовна | CP69: ГБОУ г.Москвы ДШИ "Тутти" | CQ69: Кожевникова Наталия Орестовна | CR69: ГБОУ г.Москвы ДШИ "Тутти" | CS69: Кожевникова Наталия Орестовна | CT69: ГБОУ г.Москвы ДШИ "Тутти" | CU69: Кожевникова Наталия Орестовна | CV69: ГБОУ г.Москвы ДШИ "Тутти" | CW69: Кожевникова Наталия Орестовна | CX69: ГБОУ г.Москвы ДШИ "Тутти" | CY69: Кожевникова Наталия Орестовна | CZ69: ГБОУ г.Москвы ДШИ "Тутти" | DA69: Кожевникова Наталия Орестовна | DB69: ГБОУ г.Москвы ДШИ "Тутти" | DC69: Кожевникова Наталия Орестовна | DD69: ГБОУ г.Москвы ДШИ "Тутти" | DE69: Кожевникова Наталия Орестовна | DF69: ГБОУ г.Москвы ДШИ "Тутти" | DG69: Кожевникова Наталия Орестовна | DH69: ГБОУ г.Москвы ДШИ "Тутти" | DI69: Кожевникова Наталия Орестовна | DJ69: ГБОУ г.Москвы ДШИ "Тутти" | DK69: Кожевникова Наталия Орестовна | DL69: ГБОУ г.Москвы ДШИ "Тутти" | DM69: Кожевникова Наталия Орестовна | DN69: ГБОУ г.Москвы ДШИ "Тутти" | DO69: Кожевникова Наталия Орестовна | DP69: ГБОУ г.Москвы ДШИ "Тутти" | DQ69: Кожевникова Наталия Орестовна | DR69: ГБОУ г.Москвы ДШИ "Тутти" | DS69: Кожевникова Наталия Орестовна | DT69: ГБОУ г.Москвы ДШИ "Тутти" | DU69: Кожевникова Наталия Орестовна | DV69: ГБОУ г.Москвы ДШИ "Тутти" | DW69: Кожевникова Наталия Орестовна | DX69: ГБОУ г.Москвы ДШИ "Тутти" | DY69: Кожевникова Наталия Орестовна | DZ69: ГБОУ г.Москвы ДШИ "Тутти" | EA69: Кожевникова Наталия Орестовна | EB69: ГБОУ г.Москвы ДШИ "Тутти" | EC69: Кожевникова Наталия Орестовна | ED69: ГБОУ г.Москвы ДШИ "Тутти" | EE69: Кожевникова Наталия Орестовна | EF69: ГБОУ г.Москвы ДШИ "Тутти" | EG69: Кожевникова Наталия Орестовна | EH69: ГБОУ г.Москвы ДШИ "Тутти" | EI69: Кожевникова Наталия Орестовна | EJ69: ГБОУ г.Москвы ДШИ "Тутти" | EK69: Кожевникова Наталия Орестовна | EL69: ГБОУ г.Москвы ДШИ "Тутти" | EM69: Кожевникова Наталия Орестовна | EN69: ГБОУ г.Москвы ДШИ "Тутти" | EO69: Кожевникова Наталия Орестовна | EP69: ГБОУ г.Москвы ДШИ "Тутти" | EQ69: Кожевникова Наталия Орестовна | ER69: ГБОУ г.Москвы ДШИ "Тутти" | ES69: Кожевникова Наталия Орестовна | ET69: ГБОУ г.Москвы ДШИ "Тутти" | EU69: Кожевникова Наталия Орестовна | EV69: ГБОУ г.Москвы ДШИ "Тутти" | EW69: Кожевникова Наталия Орестовна | EX69: ГБОУ г.Москвы ДШИ "Тутти" | EY69: Кожевникова Наталия Орестовна | EZ69: ГБОУ г.Москвы ДШИ "Тутти" | FA69: Кожевникова Наталия Орестовна | FB69: ГБОУ г.Москвы ДШИ "Тутти" | FC69: Кожевникова Наталия Орестовна | FD69: ГБОУ г.Москвы ДШИ "Тутти" | FE69: Кожевникова Наталия Орестовна | FF69: ГБОУ г.Москвы ДШИ "Тутти" | FG69: Кожевникова Наталия Орестовна | FH69: ГБОУ г.Москвы ДШИ "Тутти" | FI69: Кожевникова Наталия Орестовна | FJ69: ГБОУ г.Москвы ДШИ "Тутти" | FK69: Кожевникова Наталия Орестовна | FL69: ГБОУ г.Москвы ДШИ "Тутти" | FM69: Кожевникова Наталия Орестовна | FN69: ГБОУ г.Москвы ДШИ "Тутти" | FO69: Кожевникова Наталия Орестовна | FP69: ГБОУ г.Москвы ДШИ "Тутти" | FQ69: Кожевникова Наталия Орестовна | FR69: ГБОУ г.Москвы ДШИ "Тутти" | FS69: Кожевникова Наталия Орестовна | FT69: ГБОУ г.Москвы ДШИ "Тутти" | FU69: Кожевникова Наталия Орестовна | FV69: ГБОУ г.Москвы ДШИ "Тутти" | FW69: Кожевникова Наталия Орестовна | FX69: ГБОУ г.Москвы ДШИ "Тутти" | FY69: Кожевникова Наталия Орестовна | FZ69: ГБОУ г.Москвы ДШИ "Тутти" | GA69: Кожевникова Наталия Орестовна | GB69: ГБОУ г.Москвы ДШИ "Тутти" | GC69: Кожевникова Наталия Орестовна | GD69: ГБОУ г.Москвы ДШИ "Тутти" | GE69: Кожевникова Наталия Орестовна | GF69: ГБОУ г.Москвы ДШИ "Тутти" | GG69: Кожевникова Наталия Орестовна | GH69: ГБОУ г.Москвы ДШИ "Тутти" | GI69: Кожевникова Наталия Орестовна | GJ69: ГБОУ г.Москвы ДШИ "Тутти" | GK69: Кожевникова Наталия Орестовна | GL69: ГБОУ г.Москвы ДШИ "Тутти" | GM69: Кожевникова Наталия Орестовна | GN69: ГБОУ г.Москвы ДШИ "Тутти" | GO69: Кожевникова Наталия Орестовна | GP69: ГБОУ г.Москвы ДШИ "Тутти" | GQ69: Кожевникова Наталия Орестовна | GR69: ГБОУ г.Москвы ДШИ "Тутти" | GS69: Кожевникова Наталия Орестовна | GT69: ГБОУ г.Москвы ДШИ "Тутти" | GU69: Кожевникова Наталия Орестовна | GV69: ГБОУ г.Москвы ДШИ "Тутти" | GW69: Кожевникова Наталия Орестовна | GX69: ГБОУ г.Москвы ДШИ "Тутти" | GY69: Кожевникова Наталия Орестовна | GZ69: ГБОУ г.Москвы ДШИ "Тутти" | HA69: Кожевникова Наталия Орестовна | HB69: ГБОУ г.Москвы ДШИ "Тутти" | HC69: Кожевникова Наталия Орестовна | HD69: ГБОУ г.Москвы ДШИ "Тутти" | HE69: Кожевникова Наталия Орестовна | HF69: ГБОУ г.Москвы ДШИ "Тутти" | HG69: Кожевникова Наталия Орестовна | HH69: ГБОУ г.Москвы ДШИ "Тутти" | HI69: Кожевникова Наталия Орестовна | HJ69: ГБОУ г.Москвы ДШИ "Тутти" | HK69: Кожевникова Наталия Орестовна | HL69: ГБОУ г.Москвы ДШИ "Тутти" | HM69: Кожевникова Наталия Орестовна | HN69: ГБОУ г.Москвы ДШИ "Тутти" | HO69: Кожевникова Наталия Орестовна | HP69: ГБОУ г.Москвы ДШИ "Тутти" | HQ69: Кожевникова Наталия Орестовна | HR69: ГБОУ г.Москвы ДШИ "Тутти" | HS69: Кожевникова Наталия Орестовна | HT69: ГБОУ г.Москвы ДШИ "Тутти" | HU69: Кожевникова Наталия Орестовна | HV69: ГБОУ г.Москвы ДШИ "Тутти" | HW69: Кожевникова Наталия Орестовна | HX69: ГБОУ г.Москвы ДШИ "Тутти" | HY69: Кожевникова Наталия Орестовна | HZ69: ГБОУ г.Москвы ДШИ "Тутти" | IA69: Кожевникова Наталия Орестовна | IB69: ГБОУ г.Москвы ДШИ "Тутти" | IC69: Кожевникова Наталия Орестовна | ID69: ГБОУ г.Москвы ДШИ "Тутти" | IE69: Кожевникова Наталия Орестовна | IF69: ГБОУ г.Москвы ДШИ "Тутти" | IG69: Кожевникова Наталия Орестовна | IH69: ГБОУ г.Москвы ДШИ "Тутти" | II69: Кожевникова Наталия Орестовна | IJ69: ГБОУ г.Москвы ДШИ "Тутти" | IK69: Кожевникова Наталия Орестовна | IL69: ГБОУ г.Москвы ДШИ "Тутти" | IM69: Кожевникова Наталия Орестовна | IN69: ГБОУ г.Москвы ДШИ "Тутти" | IO69: Кожевникова Наталия Орестовна | IP69: ГБОУ г.Москвы ДШИ "Тутти" | IQ69: Кожевникова Наталия Орестовна | IR69: ГБОУ г.Москвы ДШИ "Тутти" | IS69: Кожевникова Наталия Орестовна | IT69: ГБОУ г.Москвы ДШИ "Тутти" | IU69: Кожевникова Наталия Орестовна | IV69: ГБОУ г.Москвы ДШИ "Тутти" | IW69: Кожевникова Наталия Орестовна | IX69: ГБОУ г.Москвы ДШИ "Тутти"
A70: 69
A71: 70
A72: 71
A73: 72
A74: 73
A75: 74
A76: 75
A77: 76
A78: 77
A79: 78
A80: 79
A81: 80
... A525: 524

Sheet СОЛО_Ф-2
A1: Программа конкурсных прослушиваний в номинации "Фольклорное исполнительство"
A2: 3 марта 2024г . (воскресенье) в зале ГБУДО г. Москвы "ДШИ им.С.И.Мамонтова" Ярославское шоссе, д.65 (карта во вложении: как добраться: до ДШИ Мамонтова можно добраться от метро ВДНХ, далее авт. № 903 и 903К до остановки "Федоскинская ул.";либо авт. 244, 136, 536, 544, электробус № 76 до остановки "Школа") Начало регистрации с 9:00 (***для участников, выступающих не в начале, регистрация проходит весь конкурсный день у администратора) Начало конкурсных прослушиваний - в 10:00
A3: 1 блок - 10:00-11:50
A4: № | B4: ФИО участника | C4: Номинация | D4: Возраст/возрастная группа | E4: ФИО руководителя | F4: ФИО концертмейстера | G4: Учреждение | H4: Программа | I4: Телефон | J4: e mail | K4: Квитанция об оплате
A5: 1 | B5: Шевченко Анна Анатольевна | C5: Фольклорное исполнительство(соло) | D5: от 7 до 9 лет (соло) | E5: преподаватель - Колтко Наталия Иосифовна, | F5: Новиков Александр Николаевич. | G5: ГБУДО г. Москвы «МГОДШИ «Измайлово», с/п «ДМШ им. В.И. Сафонова» | H5: 1.«Во саду сваха посоженая», свадебная села Любовниково Касимовского района Рязанской области (1,5 мин.) 2.«Сыграй Ваня», страдания села Поляны Скопинского района Рязанской области (2 мин.) | I5: +7(903)194-14-73, | J5: koltkoni@mail.ru | K5: 2000
A6: 2 | B6: Герасименко Кира Александровна | C6: Фольклорное исполнительство(соло) | D6: от 7 до 9 лет (соло) | E6: Преподаватель Алексеева Марина Викторовна | F6: Демаев Ринат Рауфович | G6: ГБУДО г. Москвы "Детская школа искусств "Вдохновение" | H6: 1. «Маленькая пташка» веснянка Смоленской обл. 1:00 2. «Катя маленькая» плясовая с.Большой Вьясс г.Пенза 2:00 | I6: +7(903)623-36-98 | K6: 2000
A7: 3 | B7: Романенко Ева Владимировна | C7: Фольклорное исполнительство(соло) | D7: от 7 до 9 лет (соло) | E7: Преподаватель Максимова Татьяна Юрьевна | F7: Цымбалов Сергей Константинович | G7: ГБУДО г. Москвы «МГОДШИ «Измайлово», с/п «ДМШ им. В.И. Сафонова» | H7: 1.“Ой, люлюшки-люлюшки”, колыбельная песня с. Подсереднее Алексеевского района белгородской области 1 мин. 26 сек) 2.“Дуся”, припевки с. Фощеватово Волоконовского района белгородской области ( 2 мин.01 сек) | I7: +7(963)788-91-86 | J7: tan1048@mail.ru | K7: 2000
A8: 4 | B8: Давыдов Михаил Иванович | C8: Фольклорное исполнительство(соло) | D8: от 7 до 9 лет (соло) | E8: Найденко Юлия Васильевна | F8: Сергеев Алексей Андреевич. | G8: ГБУДО г. Москвы "МГОДШИ "Сокольники" | H8: 1. «Уж вы, стары старики», хороводная с. Большой Куналей Тарбагатайского района Республики Бурятия, 02:05; 2. «Ты сыграй по-веселее...», припевки с. Спасское Приволжского района Самарской области, 02:15. | J8: Julia.naidenko@mail.ru | K8: 2000
A9: 5 | B9: Ермакова Мария Дмитриевна | C9: Фольклорное исполнительство(соло) | D9: от 7 до 9 лет (соло) | E9: Почётный работник Культуры г. Москвы Головина Ирина Алексеевна | F9: Бокарёв Иван Юрьевич, Клюева Ирина | G9: ГБУДО г. Москвы "ДШИ им. Е.Ф. Светланова" | H9: 1. " Земляничка - земляна" - летняя записана в селе Щетиновка Белгородского района Белгородской области - 2м. 10с. 2. " Балалаечка играя, Матаня" - припевки Липецкой области - 2м.20с. | I9: 8-916-445-44-47 | J9: golovina76@list.ru , | K9: 2000
A10: 6 | B10: Родионова Александра Борисовна | C10: Фольклорное исполнительство(соло) | D10: от 7 до 9 лет (соло) | E10: Мареева Саяна Николаевна | G10: ГБУДО г. Москвы "ДШИ им. В. С. Калинникова | H10: 1. "А мы Масленку встречали", масленичная. Записано в с. Тасеево Красноярского края (02:00); 2. "Комар шуточку шутил", шуточная. Записано в с. Балман Новосибирской области (01:00). | I10: 79151786009 | J10: sayana.mareeva@yandex.ru | K10: 2000
A11: 7 | B11: Кондратюк Юлия Евгениевна | C11: Фольклорное исполнительство(соло) | D11: от 7 до 9 лет (соло) | E11: Тарасенко Василиса Сергеевна | F11: Игнатенко Виктор Леонидович | G11: ГБУДО г. Москвы «ДШИ им. М.А. Балакирева» | H11: 1. "Закатилося да яркое солнце"- жнивная, с. Верещаки, Новозыбского района Брянской области 2."Пойду плясать"- плясовые частушки | I11: 89606016997 | J11: vasilisatarasenko71@gmail.com | K11: 2000
A12: 8 | B12: Ярис Людмила Дмитриевна | C12: Фольклорное исполнительство(соло) | D12: от 7 до 9 лет (соло) | E12: Трещалина Екатерина Владимировна хореограф Хазова Юлия Сергеевна | F12: Антонов Александр Андреевич | G12: ГБУДО г. Москвы «Детская музыкальная школа имени В.В.Андреева» | H12: 1. "Маленькая пташка" (закличка Смоленской области) 2. Частушки под наигрыш "Русского" (Владимирская область) | I12: 89850713993 | J12: kudryavchik_e@mail.ru | K12: 2000
A13: 9 | B13: Тарасова Мария Юрьевна | C13: Фольклорное исполнительство(соло) | D13: от 7 до 9 лет (соло) | E13: Филипская Юлия Сергеевна | F13: Коломецев Ярослав Александрович | G13: ГБУДО г.Москвы "ДШИ "Феникс" | H13: 1. “За рекою матушка гусли гудут» - масленичная с. Дорожева Брянской области 2.Частушки под наигрыш «Сербиянска» - Красногорского района Брянской области(3.30) | J13: Juliafili1704@mail.ru | K13: 2000
A14: 10 | B14: ДФА "На златом крыльце" группа 3 класса | C14: Фольклорное исполнительство(ансамбль) | D14: до 10 лет (ансамбль) | E14: Преподаватель Алексеева Марина Викторовна | F14: Концертмейстер Демаев Ринат Рауфович Хореограф Бурячек Михаил Валерьевич | G14: ГБУДО г. Москвы "Детская школа искусств "Вдохновение" | H14: «Да у этот двор пришла Коляда» д. Марьино Смоленской обл. 1:20 «На зорюшке снег напал» д. Черемошны Мценского уезда Орловской обл. 2:00 | I14: +7(903)623-36-98 | J14: marina_3698@bk.ru, | K14: 3500 | L14: 1.Гаркуша Александра 9 лет 2.Дудник Мария 10 лет 3.Иванов Дмитрий 9 лет 4.Колесова Лиэль 9 лет 5.Ларкин Дмитрий 9 лет 6.Румянцева Милана 10 лет 7.Рыбакова Евгения 9 лет 8.Садкова Вероника 9 лет 9.Соколов Александр 9 лет 10.Усачева Анна 9 лет 11.Шеваль Варвара 9 лет 12.Яковлева Полина 9 лет
A15: 11 | B15: Фольклорный ансамбль "Иван-да-Марья" | C15: Фольклорное исполнительство(ансамбль) | D15: до 10 лет (ансамбль) | E15: Мареева Саяна Николаевна | G15: ГБУДО г. Москвы "ДШИ им. В. С. Калинникова" | H15: 1. "Хороша наша деревня", хороводная плясовая. Записано в с. Бергуль Новосибирской области (01:30); 2. "Шла утка лугом", игровая. Записано в с. Верх-Алеус Новосибирской области (01:00). | I15: 8(915)178-60-09 | J15: sayana.mareeva@yandex.ru, | K15: 3500 | L15: 1. Башкатов Петр - 8 лет 2. Драгунов Кирилл - 8 лет 3. Рзянкина Вероника - 8 лет 4. Затулина Анастасия - 9 лет 5. Родионова Александра - 9 лет 6. Лопаткин Арсений - 10 лет 7. Кондакова Ксения - 10 лет 8. Лопатникова Виктория - 10 лет 9. Кика Полина - 11 лет 10. Афонченкова Мария - 11 лет 11. Коптяева Мария - 12 лет 12. Лавринова Ирина - 12 лет 13. Коваленко Варвара - 12 лет
A16: 12 | B16: Этно-ансамбль "Внуки-правнуки" | C16: Фольклорное исполнительство(ансамбль) | D16: до 10 лет (ансамбль) | E16: Тарасенко Василиса Сергеевна | G16: ГБУДО г. Москва "ДШИ им. М.А. Балакирева | H16: 1. "Подай, Боже, ключик"-весенняя закличка Новосибирской области (1.08) 2. "Заведу кривой танок"-весенняя хороводная, с.Летошники, Жуковский район Брянской области (1.20) | I16: 89606016997 | J16: vasilisatarasenko71@gmail.com, | K16: 3500 | L16: 1.Морозова Василиса 10 лет 2.Юсева Пелагея 11 лет 3.Кондратюк Юлия 7 лет 4.Лощинин Александр 11 лет 5.Хватова Светлана 11 лет 6.Капустина Валерия 11 лет 7.Бакетов Платон 12 лет
A17: 13 | B17: Фольклорный ансамбль "Крутуха" | C17: Фольклорное исполнительство(ансамбль) | D17: до 10 лет (ансамбль) | E17: Литвиненко Анна Анатольевна | F17: Климов Игорь Евгеньевич | G17: ГБУДО г. Москвы «ДШИ № 14» | H17: 1. "Как повадился коток", зимняя игровая села Дорожово Брянского района Брянской области (2:00 мин); 2. "Там шли веселы, разговаривали", шуточная из репертуара Фольклорного объединения "Измайловская слобода" (2:00 мин). | I17: 89168710949 | J17: annaa.litvinenko@yandex.ru | K17: 3500
A18: 14 | B18: Фольклорный ансамбль "Вейя"(младшая группа) | C18: Фольклорное исполнительство(ансамбль) | D18: до 10 лет (ансамбль) | E18: Филипская Юлия Сергеевна | G18: ГБУДО г.Москвы "ДШИ "Феникс" | H18: 1."Подошли мы ко двору" - волочебная, д. Манцурово Трубчевского района Брянской области 2.«Егор,ты Егорушка» - д. Орменка Выгоничского района Брянской области(4 мин) | J18: Juliafili1704@mail.ru
A19: 15 | B19: Фатьянов Владимир Олегович | C19: Фольклорное исполнительство(соло) | D19: от 10 до 12 лет (соло) | E19: Преподаватель - Воеводина Наталья Владимировна Преподаватель по народным инструментам Барайщук Виктор Андреевич | F19: Концертмейстер, преподаватель по хореографии Бурячек Михаил Валерьевич | G19: ГБУДО г. Москвы "ДШИ "Вдохновение" | H19: 1. "Расхорошая наша молодёжь" - лирическая песня деревни Казарино Кич-Городецкого р-на Вологодской области. 2. " Илья Муромец и Сокольник" - былина (фрагмент). Деревня Абрамово Усть-Цилёмского р-на республики Коми. Записана от Еремея Чупрова. | I19: +7-903-514-92-81 | J19: 5149281@mail.ru | K19: 2000
A20: 16 | B20: Дележанов Давид Борисович | C20: Фольклорное исполнительство(соло) | D20: от 10 до 12 лет (соло) | E20: преподаватель - Колтко Наталия Иосифовна, | F20: концертмейстер - Новиков Александр Николаевич. | G20: ГБУДО г. Москвы «МГОДШИ «Измайлово», с/п «ДМШ им. В.И. Сафонова» | H20: 1.«Ой, да что ж девчонка она приуныла», лирическая села Гремячка Милославского района Рязанской области (1,5 мин.) 2.«Матаня» села Перкино Сосновского района Тамбовской области (2мин.); | I20: +7(903)194-14-73, | J20: koltkoni@mail.ru | K20: 2000
A21: 17 | B21: Румянцева Милана Георгиевна | C21: Фольклорное исполнительство(соло) | D21: от 10 до 12 лет (соло) | E21: Алексеева Марина Викторовна | F21: Демаев Ринат Рауфович | G21: ГБУДО г. Москвы "Детская школа искусств "Вдохновение" | H21: 1. «А сегодня день хорош» плясовая на масленицу Тверской обл. 2:00 «В лугах калина» хороводная д. Кривцово Нелидовского р-на Тверской обл. 1:20 | I21: +7(903)623-36-98 | J21: marina_3698@bk.ru, | K21: 2000
A22: 18 | B22: Соколова Мария Викторовна | C22: Фольклорное исполнительство(соло) | D22: от 10 до 12 лет (соло) | E22: Алексеева Марина Викторовна | F22: Демаев Ринат Рауфович | G22: ГБУДО г. Москвы "Детская школа искусств "Вдохновение" | H22: 1. «Соловей мой, соловей» лирическая д.Новоселки Жарковского р-на Тверской обл. 1:30 2. «А страдания, страдания» Смоленской обл. 1:50 | I22: +7(903)623-36-98 | J22: marina_3698@bk.ru, | K22: 2000
A23: 19 | B23: Котенева Анастасия Денисовна | C23: Фольклорное исполнительство(соло) | D23: от 10 до 12 лет (соло) | E23: Максимова Татьяна Юрьевна | F23: Новиков Александр Николаевич, Цымбалов Сергей Константинович | G23: ГБУДО г. Москвы «МГОДШИ «Измайлово», с/п «ДМШ им. В.И. Сафонова» | H23: 1.“Кукукнула кукушечка”, свадебная песня деревни Рядовичи Шаблыкинского района Орловской области (1 мин. 15 сек) 2..”Я цыганку танцувала”, припевки под наигрыш цыганочки деревни Перелазы Усвятского района Псковской области из репертуара О.Ф. Сергеевой (1 мин.20 сек) | I23: +7(963)788-91-86 | J23: tan1048@mail.ru | K23: 2000
A24: 20 | B24: Фольклорный ансамбль "Крутуха" (старшая группа) | C24: Фольклорное исполнительство(ансамбль) | D24: от 11 до 15 лет (ансамбль) | E24: Литвиненко Анна Анатольевна | F24: Климов Игорь Евгеньевич | G24: ГБУДО г. Москвы «ДШИ № 14» | H24: 1. "Закатилось яркое солнце", жнивная села Верещаки Новозыбковского района Брянской области (2:00 мин);2. "Заинка, заинка, где ж ты был", шуточная села Большое Красненского района Белгородской области (2:40 мин). | I24: 89168710949 | J24: annaa.litvinenko@yandex.ru | K24: 3500
A25: 21 | B25: Клюева Ирина Вадимовна | C25: Фольклорное исполнительство(соло) | D25: от 10 до 12 лет (соло) | E25: Почётный работник Культуры г. Москвы Головина Ирина Алексеевна | F25: Бокарёв Иван Юрьевич | G25: ГБУДО г. Москвы " ДШИ им. Е.Ф. Светланова" | H25: 1. " Соловей ты мой, соловей" - лирическая Воронежской области - 2 м. 30с. 2. " Заиграла балалайка" - страдания, село Фощеватово Волоконовского района Белгородской области - 2м. 50с. | I25: 8-916-445-44-47 | J25: golovina76@list.ru | K25: 2000
A26: 22 | B26: Блинкова Анастасия Дмитриевна | C26: Фольклорное исполнительство(соло) | D26: от 10 до 12 лет (соло) | E26: Преподаватель – Почётный работник Культуры г. Москвы Головина Ирина Алексеевна | F26: Концертмейстер – Бокарёв Иван Юрьевич | G26: ГБУДО г. Москвы "ДШИ им. Е. Ф. Светланова" | H26: 1. " Что не по мосту, мосточку" - протяжная, село Коршево Бобровского района Воронежской области - 2м. 40с. 2. " Барыня" - частушки с пляской Липецкой области - 3 м. | I26: 8-916-445-44-47 | J26: golovina76@list.ru , | K26: 2000
A27: 23 | B27: Андреянова Таисия Михайловна | C27: Фольклорное исполнительство(соло) | D27: от 10 до 12 лет (соло) | E27: Найденко Юлия Васильевна | F27: Сергеев Алексей Андреевич | G27: ГБУДО г.Москвы "МГОДШИ "Сокольники"; с/п Детская музыкальная школа №82 | H27: 1. «Белилицы» – хороводная с. Боровое Новооскольского р-на Белгородской области, 01:45. 2. Частушки «под язык» с. Роговатое Старооскольского р-на Белгородской области, 02:15. | J27: Julia.naidenko@mail.ru | K27: 2000
A28: 24 | B28: Багаутдинова Полина Рустамовна | C28: Фольклорное исполнительство(соло) | D28: от 10 до 12 лет (соло) | E28: Преподаватель – Найденко Юлия Васильевна | F28: концертмейстер – Сергеев Алексей Андреевич | G28: Государственное бюджетное учреждение дополнительного образования города Москвы "Московская городская объединенная детская школа искусств "Сокольники"; с/п Детская музыкальная школа №82 | H28: 1. «Ходила б я, гуляла» – лирическая из репертуара О.В. Трушиной, с. Нетризово Кардымовского р-на Смоленской области, 02:05; 2. Припевки с. Лешуконское Лешуконского р-на Архангельской области, 02:20. | J28: Julia.naidenko@mail.ru | K28: 2000
A29: 25 | B29: Соболева Светлана Максимовна | C29: Фольклорное исполнительство(соло) | D29: от 10 до 12 лет (соло) | E29: Руководитель Лысенко Наталья Владимировна Хореограф Синяева Валерия Владимировна | F29: Концертмейстер Петров Роман Ромуальдович | G29: ГБУДО г. Москвы "Детская школа искусств имени Я.В. Флиера" | H29: 1. Лирическая песня Липецкой обл., Хлевенского района села Донская Негачëвка «Ходила девчоночка по зеленому саду» 2.40 2. Припевки под пляску с. Осколково Алтайского района Алтайского края 2. 20 | I29: lysenkon75@mail.ru 8(903)115-40-98 | J29: lysenkon75@mail.ru | K29: 2000
A30: 26 | B30: Бакетов Платон Константинович | C30: Фольклорное исполнительство(соло) | D30: от 10 до 12 лет (соло) | E30: Тарасенко Василиса Сергеевна, Игнатенко Виктор Леонидович | G30: ГБУДО г. Москвы «ДШИ им. М.А. Балакирева» | H30: 1. "Из боярских ворот" -хороводная, д. Животово, Одоевского района, Тульской области (2.30) 2."А ты не вейся, пташка"- казачья Волгоградской области (2.00) | I30: 89606016997 | J30: vasilisatarasenko71@gmail.com | K30: 2000
A31: 27 | B31: Бондарь София Сергеевна | C31: Фольклорное исполнительство(соло) | D31: от 10 до 12 лет (соло) | E31: Ковалева Елена Владимировна | F31: Бокарëв Иван Юрьевич концертмейстер | G31: ГБУДО г. Москвы"ДШИ им. Е. Ф. Светланова" | H31: 1. "Где ж ты заинька был" с. Таборы Свердловской обл. 1,10 2. "Улошные" частушки с. Артын Муромцевского р-она Омской обл. 2,25 | J31: aknep-aknel@mail.ru | K31: 2000
A32: 28 | B32: Лобанова Мария Дмитриевна | C32: Фольклорное исполнительство(соло) | D32: от 10 до 12 лет (соло) | E32: Ковалева Елена Владимировна | F32: Бокарëв Иван Юрьевич концертмейстер | G32: ГБУДО г. Москвы "ДШИ им. Е. Ф. Светланова" | H32: 1. "Ворота, ворота, бела берëза стояла" свадебная с. Русская Халань Чернянского р-на Белгородской обл. 1,57 2. "Барыня" припевки Липецкой области 2,45 | J32: aknep-aknel@mail.ru | K32: 2000
A33: 29 | B33: Юркина Диана | C33: Фольклорное исполнительство(соло) | D33: от 10 до 12 лет (соло) | E33: Меркулова Елена Вячеславовна | F33: Концертместер - Баев Олег Вячеславович | G33: Муниципальное бюджетное учреждение дополнительного образования городского округа Самара «Детская музыкальная школа №19» (МБУ ДО г.о. Самара «Детская музыкальная школа №19») | H33: 1.«Добрый вечер» - календарная песня, Брянской области, 1,50 2.«За морем сорока» - потешка, 4,05 | I33: 89277146665 | J33: merk.eduard@yandex.ru | K33: 2000
A34: 30 | B34: Королëва Василиса | C34: Фольклорное исполнительство(соло) | D34: от 10 до 12 лет (соло) | E34: Бубнова Анна Викторрвна | G34: ГБУДО г. Москвы «Детская школа искусств имени В.С. Калинникова» | H34: 1. "Василь жа мой василëчек" Вознесенская хороводная песня села Лобановка Климовского района Брянской области 1,7мин 2. "Пермская улошная" 2 мин. | I34: 79036100260 | J34: annabub@rambler.ru | K34: 2000
A35: 31 | B35: Потапчев Григорий | C35: Фольклорное исполнительство(соло) | D35: от 10 до 12 лет (соло) | E35: Меркулова Елена Вячеславовна | F35: Баев Олег Вячеславович | G35: Муниципальное бюджетное учреждение дополнительного образования городского округа Самара «Детская музыкальная школа №19» (МБУ ДО г.о. Самара «Детская музыкальная школа №19») | H35: 1.«Как во наших во полях» - лирическая песня села Давыдовка Приволжского района Самарской области, 1,50 2.«Кот, петух и лиса» - сказка 3, 10 | I35: 89277146665 | J35: merk.eduard@yandex.ru | K35: 2000
A36: 32 | B36: Маркина Варвара Сергеевна | C36: Фольклорное исполнительство(соло) | D36: от 10 до 12 лет (соло) | E36: Соловьева Яна Андреевна и Филипская Юлия Сергеевна, хореография - Коломенцев Ярослав Александрович | F36: Коломенцев Ярослав Александрович | G36: ГБУДО г.Москвы "ДШИ "Феникс" | H36: 1. «Несправедливая калинушка» - свадебная д. Манцурово Трубчевского района Брянской области, 1.50 2. "Частушки под наигрыш "Барыня" – с.Белогорщ Унечского р-на Брянской области, 1.20 | I36: 89032340026 | J36: yanok-yakovleva@mail.ru | K36: 2000
A37: Круглый стол индивидуально с членами жюри - 15 минут Технический перерыв - 15 минут
A38: 2 блок 12-20-13:50
A39: 33 | B39: Калугина Арина | C39: Фольклорное исполнительство(соло) | D39: от 13 до 15 лет (соло) | E39: Преподаватель: Егорова Ольга Владимировна | F39: Концертмейстер: Капшуров Сергей Александрович | G39: ГБУДО г. Москвы «Кокошкинская детская школа искусств» | H39: 1. «Не велят Маше», лирическая протяжная, (Иркутская область, Братский район, д.Парилово) 2.«Красное яблочко на два бока», шуточная, (Иркутская область, Казачинско-Ленский район, д. Тарасово) Хронометраж (3:30) | I39: 79999664565 | J39: olga-klochkova96@mail.ru | K39: 2000
A40: 34 | B40: Русал Глеб | C40: Фольклорное исполнительство(соло) | D40: от 13 до 15 лет (соло) | E40: Преподаватель: Егорова Ольга Владимировна | F40: Концертмейстер: Капшуров Сергей Александрович | G40: ГБУДО г. Москвы «Кокошкинская детская школа искусств» | H40: 1.«Повилися русы кудри», лирическая, (Красноярский край, Идринский район, д. Нооберезовка) 2.Сормовские рекрутские припевки, Алтайский край | I40: 79999664565 | J40: olga-klochkova96@mail.ru | K40: 2000
...

Sheet СОЛО_Ф-6
A1: № | B1: ФИО участника | C1: Номинация | D1: Дата рождения | E1: Возраст/возрастная группа | F1: ФИО руководителя | G1: ФИО концертмейстера | H1: Учреждение | I1: Программа | J1: Телефон | K1: e mail | L1: Квитанция об оплате
A2: 1 | C2: Фольклорное исполнительство(соло) | E2: от 20 до 24 лет (соло)
A3: 2 | C3: Фольклорное исполнительство(соло) | E3: от 20 до 24 лет (соло)
A4: 3 | C4: Фольклорное исполнительство(соло) | E4: от 20 до 24 лет (соло)
A5: 4 | C5: Фольклорное исполнительство(соло) | E5: от 20 до 24 лет (соло)
A6: 5 | C6: Фольклорное исполнительство(соло) | E6: от 20 до 24 лет (соло)
A7: 6 | C7: Фольклорное исполнительство(соло) | E7: от 20 до 24 лет (соло)
A8: 7 | C8: Фольклорное исполнительство(соло) | E8: от 20 до 24 лет (соло)
A9: 8 | C9: Фольклорное исполнительство(соло) | E9: от 20 до 24 лет (соло)
A10: 9 | C10: Фольклорное исполнительство(соло) | E10: от 20 до 24 лет (соло)
A11: 10 | C11: Фольклорное исполнительство(соло) | E11: от 20 до 24 лет (соло)
A12: 11 | C12: Фольклорное исполнительство(соло) | E12: от 20 до 24 лет (соло)
A13: 12 | C13: Фольклорное исполнительство(соло) | E13: от 20 до 24 лет (соло)
... A16: 15 | C16: Фольклорное исполнительство(соло) | E16: от 20 до 24 лет (соло)
A17: 16
A18: 17
A19: 18
A20: 19
A21: 20
A22: 21
A23: 22
A24: 23
A25: 24
A26: 25
A27: 26
A28: 27
... A68: 67
A69: 68 | X69: ГБОУ г.Москвы ДШИ "Тутти" | Y69: Кожевникова Наталия Орестовна | Z69: ГБОУ г.Москвы ДШИ "Тутти" | AA69: Кожевникова Наталия Орестовна | AB69: ГБОУ г.Москвы ДШИ "Тутти" | AC69: Кожевникова Наталия Орестовна | AD69: ГБОУ г.Москвы ДШИ "Тутти" | AE69: Кожевникова Наталия Орестовна | AF69: ГБОУ г.Москвы ДШИ "Тутти" | AG69: Кожевникова Наталия Орестовна | AH69: ГБОУ г.Москвы ДШИ "Тутти" | AI69: Кожевникова Наталия Орестовна | AJ69: ГБОУ г.Москвы ДШИ "Тутти" | AK69: Кожевникова Наталия Орестовна | AL69: ГБОУ г.Москвы ДШИ "Тутти" | AM69: Кожевникова Наталия Орестовна | AN69: ГБОУ г.Москвы ДШИ "Тутти" | AO69: Кожевникова Наталия Орестовна | AP69: ГБОУ г.Москвы ДШИ "Тутти" | AQ69: Кожевникова Наталия Орестовна | AR69: ГБОУ г.Москвы ДШИ "Тутти" | AS69: Кожевникова Наталия Орестовна | AT69: ГБОУ г.Москвы ДШИ "Тутти" | AU69: Кожевникова Наталия Орестовна | AV69: ГБОУ г.Москвы ДШИ "Тутти" | AW69: Кожевникова Наталия Орестовна | AX69: ГБОУ г.Москвы ДШИ "Тутти" | AY69: Кожевникова Наталия Орестовна | AZ69: ГБОУ г.Москвы ДШИ "Тутти" | BA69: Кожевникова Наталия Орестовна | BB69: ГБОУ г.Москвы ДШИ "Тутти" | BC69: Кожевникова Наталия Орестовна | BD69: ГБОУ г.Москвы ДШИ "Тутти" | BE69: Кожевникова Наталия Орестовна | BF69: ГБОУ г.Москвы ДШИ "Тутти" | BG69: Кожевникова Наталия Орестовна | BH69: ГБОУ г.Москвы ДШИ "Тутти" | BI69: Кожевникова Наталия Орестовна | BJ69: ГБОУ г.Москвы ДШИ "Тутти" | BK69: Кожевникова Наталия Орестовна | BL69: ГБОУ г.Москвы ДШИ "Тутти" | BM69: Кожевникова Наталия Орестовна | BN69: ГБОУ г.Москвы ДШИ "Тутти" | BO69: Кожевникова Наталия Орестовна | BP69: ГБОУ г.Москвы ДШИ "Тутти" | BQ69: Кожевникова Наталия Орестовна | BR69: ГБОУ г.Москвы ДШИ "Тутти" | BS69: Кожевникова Наталия Орестовна | BT69: ГБОУ г.Москвы ДШИ "Тутти" | BU69: Кожевникова Наталия Орестовна | BV69: ГБОУ г.Москвы ДШИ "Тутти" | BW69: Кожевникова Наталия Орестовна | BX69: ГБОУ г.Москвы ДШИ "Тутти" | BY69: Кожевникова Наталия Орестовна | BZ69: ГБОУ г.Москвы ДШИ "Тутти" | CA69: Кожевникова Наталия Орестовна | CB69: ГБОУ г.Москвы ДШИ "Тутти" | CC69: Кожевникова Наталия Орестовна | CD69: ГБОУ г.Москвы ДШИ "Тутти" | CE69: Кожевникова Наталия Орестовна | CF69: ГБОУ г.Москвы ДШИ "Тутти" | CG69: Кожевникова Наталия Орестовна | CH69: ГБОУ г.Москвы ДШИ "Тутти" | CI69: Кожевникова Наталия Орестовна | CJ69: ГБОУ г.Москвы ДШИ "Тутти" | CK69: Кожевникова Наталия Орестовна | CL69: ГБОУ г.Москвы ДШИ "Тутти" | CM69: Кожевникова Наталия Орестовна | CN69: ГБОУ г.Москвы ДШИ "Тутти" | CO69: Кожевникова Наталия Орестовна | CP69: ГБОУ г.Москвы ДШИ "Тутти" | CQ69: Кожевникова Наталия Орестовна | CR69: ГБОУ г.Москвы ДШИ "Тутти" | CS69: Кожевникова Наталия Орестовна | CT69: ГБОУ г.Москвы ДШИ "Тутти" | CU69: Кожевникова Наталия Орестовна | CV69: ГБОУ г.Москвы ДШИ "Тутти" | CW69: Кожевникова Наталия Орестовна | CX69: ГБОУ г.Москвы ДШИ "Тутти" | CY69: Кожевникова Наталия Орестовна | CZ69: ГБОУ г.Москвы ДШИ "Тутти" | DA69: Кожевникова Наталия Орестовна | DB69: ГБОУ г.Москвы ДШИ "Тутти" | DC69: Кожевникова Наталия Орестовна | DD69: ГБОУ г.Москвы ДШИ "Тутти" | DE69: Кожевникова Наталия Орестовна | DF69: ГБОУ г.Москвы ДШИ "Тутти" | DG69: Кожевникова Наталия Орестовна | DH69: ГБОУ г.Москвы ДШИ "Тутти" | DI69: Кожевникова Наталия Орестовна | DJ69: ГБОУ г.Москвы ДШИ "Тутти" | DK69: Кожевникова Наталия Орестовна | DL69: ГБОУ г.Москвы ДШИ "Тутти" | DM69: Кожевникова Наталия Орестовна | DN69: ГБОУ г.Москвы ДШИ "Тутти" | DO69: Кожевникова Наталия Орестовна | DP69: ГБОУ г.Москвы ДШИ "Тутти" | DQ69: Кожевникова Наталия Орестовна | DR69: ГБОУ г.Москвы ДШИ "Тутти" | DS69: Кожевникова Наталия Орестовна | DT69: ГБОУ г.Москвы ДШИ "Тутти" | DU69: Кожевникова Наталия Орестовна | DV69: ГБОУ г.Москвы ДШИ "Тутти" | DW69: Кожевникова Наталия Орестовна | DX69: ГБОУ г.Москвы ДШИ "Тутти" | DY69: Кожевникова Наталия Орестовна | DZ69: ГБОУ г.Москвы ДШИ "Тутти" | EA69: Кожевникова Наталия Орестовна | EB69: ГБОУ г.Москвы ДШИ "Тутти" | EC69: Кожевникова Наталия Орестовна | ED69: ГБОУ г.Москвы ДШИ "Тутти" | EE69: Кожевникова Наталия Орестовна | EF69: ГБОУ г.Москвы ДШИ "Тутти" | EG69: Кожевникова Наталия Орестовна | EH69: ГБОУ г.Москвы ДШИ "Тутти" | EI69: Кожевникова Наталия Орестовна | EJ69: ГБОУ г.Москвы ДШИ "Тутти" | EK69: Кожевникова Наталия Орестовна | EL69: ГБОУ г.Москвы ДШИ "Тутти" | EM69: Кожевникова Наталия Орестовна | EN69: ГБОУ г.Москвы ДШИ "Тутти" | EO69: Кожевникова Наталия Орестовна | EP69: ГБОУ г.Москвы ДШИ "Тутти" | EQ69: Кожевникова Наталия Орестовна | ER69: ГБОУ г.Москвы ДШИ "Тутти" | ES69: Кожевникова Наталия Орестовна | ET69: ГБОУ г.Москвы ДШИ "Тутти" | EU69: Кожевникова Наталия Орестовна | EV69: ГБОУ г.Москвы ДШИ "Тутти" | EW69: Кожевникова Наталия Орестовна | EX69: ГБОУ г.Москвы ДШИ "Тутти" | EY69: Кожевникова Наталия Орестовна | EZ69: ГБОУ г.Москвы ДШИ "Тутти" | FA69: Кожевникова Наталия Орестовна | FB69: ГБОУ г.Москвы ДШИ "Тутти" | FC69: Кожевникова Наталия Орестовна | FD69: ГБОУ г.Москвы ДШИ "Тутти" | FE69: Кожевникова Наталия Орестовна | FF69: ГБОУ г.Москвы ДШИ "Тутти" | FG69: Кожевникова Наталия Орестовна | FH69: ГБОУ г.Москвы ДШИ "Тутти" | FI69: Кожевникова Наталия Орестовна | FJ69: ГБОУ г.Москвы ДШИ "Тутти" | FK69: Кожевникова Наталия Орестовна | FL69: ГБОУ г.Москвы ДШИ "Тутти" | FM69: Кожевникова Наталия Орестовна | FN69: ГБОУ г.Москвы ДШИ "Тутти" | FO69: Кожевникова Наталия Орестовна | FP69: ГБОУ г.Москвы ДШИ "Тутти" | FQ69: Кожевникова Наталия Орестовна | FR69: ГБОУ г.Москвы ДШИ "Тутти" | FS69: Кожевникова Наталия Орестовна | FT69: ГБОУ г.Москвы ДШИ "Тутти" | FU69: Кожевникова Наталия Орестовна | FV69: ГБОУ г.Москвы ДШИ "Тутти" | FW69: Кожевникова Наталия Орестовна | FX69: ГБОУ г.Москвы ДШИ "Тутти" | FY69: Кожевникова Наталия Орестовна | FZ69: ГБОУ г.Москвы ДШИ "Тутти" | GA69: Кожевникова Наталия Орестовна | GB69: ГБОУ г.Москвы ДШИ "Тутти" | GC69: Кожевникова Наталия Орестовна | GD69: ГБОУ г.Москвы ДШИ "Тутти" | GE69: Кожевникова Наталия Орестовна | GF69: ГБОУ г.Москвы ДШИ "Тутти" | GG69: Кожевникова Наталия Орестовна | GH69: ГБОУ г.Москвы ДШИ "Тутти" | GI69: Кожевникова Наталия Орестовна | GJ69: ГБОУ г.Москвы ДШИ "Тутти" | GK69: Кожевникова Наталия Орестовна | GL69: ГБОУ г.Москвы ДШИ "Тутти" | GM69: Кожевникова Наталия Орестовна | GN69: ГБОУ г.Москвы ДШИ "Тутти" | GO69: Кожевникова Наталия Орестовна | GP69: ГБОУ г.Москвы ДШИ "Тутти" | GQ69: Кожевникова Наталия Орестовна | GR69: ГБОУ г.Москвы ДШИ "Тутти" | GS69: Кожевникова Наталия Орестовна | GT69: ГБОУ г.Москвы ДШИ "Тутти" | GU69: Кожевникова Наталия Орестовна | GV69: ГБОУ г.Москвы ДШИ "Тутти" | GW69: Кожевникова Наталия Орестовна | GX69: ГБОУ г.Москвы ДШИ "Тутти" | GY69: Кожевникова Наталия Орестовна | GZ69: ГБОУ г.Москвы ДШИ "Тутти" | HA69: Кожевникова Наталия Орестовна | HB69: ГБОУ г.Москвы ДШИ "Тутти" | HC69: Кожевникова Наталия Орестовна | HD69: ГБОУ г.Москвы ДШИ "Тутти" | HE69: Кожевникова Наталия Орестовна | HF69: ГБОУ г.Москвы ДШИ "Тутти" | HG69: Кожевникова Наталия Орестовна | HH69: ГБОУ г.Москвы ДШИ "Тутти" | HI69: Кожевникова Наталия Орестовна | HJ69: ГБОУ г.Москвы ДШИ "Тутти" | HK69: Кожевникова Наталия Орестовна | HL69: ГБОУ г.Москвы ДШИ "Тутти" | HM69: Кожевникова Наталия Орестовна | HN69: ГБОУ г.Москвы ДШИ "Тутти" | HO69: Кожевникова Наталия Орестовна | HP69: ГБОУ г.Москвы ДШИ "Тутти" | HQ69: Кожевникова Наталия Орестовна | HR69: ГБОУ г.Москвы ДШИ "Тутти" | HS69: Кожевникова Наталия Орестовна | HT69: ГБОУ г.Москвы ДШИ "Тутти" | HU69: Кожевникова Наталия Орестовна | HV69: ГБОУ г.Москвы ДШИ "Тутти" | HW69: Кожевникова Наталия Орестовна | HX69: ГБОУ г.Москвы ДШИ "Тутти" | HY69: Кожевникова Наталия Орестовна | HZ69: ГБОУ г.Москвы ДШИ "Тутти" | IA69: Кожевникова Наталия Орестовна | IB69: ГБОУ г.Москвы ДШИ "Тутти" | IC69: Кожевникова Наталия Орестовна | ID69: ГБОУ г.Москвы ДШИ "Тутти" | IE69: Кожевникова Наталия Орестовна | IF69: ГБОУ г.Москвы ДШИ "Тутти" | IG69: Кожевникова Наталия Орестовна | IH69: ГБОУ г.Москвы ДШИ "Тутти" | II69: Кожевникова Наталия Орестовна | IJ69: ГБОУ г.Москвы ДШИ "Тутти" | IK69: Кожевникова Наталия Орестовна | IL69: ГБОУ г.Москвы ДШИ "Тутти" | IM69: Кожевникова Наталия Орестовна | IN69: ГБОУ г.Москвы ДШИ "Тутти" | IO69: Кожевникова Наталия Орестовна | IP69: ГБОУ г.Москвы ДШИ "Тутти" | IQ69: Кожевникова Наталия Орестовна | IR69: ГБОУ г.Москвы ДШИ "Тутти" | IS69: Кожевникова Наталия Орестовна | IT69: ГБОУ г.Москвы ДШИ "Тутти" | IU69: Кожевникова Наталия Орестовна | IV69: ГБОУ г.Москвы ДШИ "Тутти" | IW69: Кожевникова Наталия Орестовна | IX69: ГБОУ г.Москвы ДШИ "Тутти"
A70: 69
A71: 70
A72: 71
A73: 72
A74: 73
A75: 74
A76: 75
A77: 76
A78: 77
A79: 78
A80: 79
A81: 80
...

Sheet СОЛО_Ф-7
A1: № | B1: ФИО участника | C1: Номинация | D1: Дата рождения | E1: Возраст/возрастная группа | F1: ФИО руководителя | G1: ФИО концертмейстера | H1: Учреждение | I1: Программа | J1: Телефон | K1: e mail | L1: Квитанция об оплате
A2: 1 | C2: Фольклорное исполнительство(соло) | E2: от 25 лет и старше (соло)
A3: 2 | C3: Фольклорное исполнительство(соло) | E3: от 25 лет и старше (соло)
A4: 3 | C4: Фольклорное исполнительство(соло) | E4: от 25 лет и старше (соло)
A5: 4 | C5: Фольклорное исполнительство(соло) | E5: от 25 лет и старше (соло)
A6: 5 | C6: Фольклорное исполнительство(соло) | E6: от 25 лет и старше (соло)
A7: 6 | C7: Фольклорное исполнительство(соло) | E7: от 25 лет и старше (соло)
A8: 7 | C8: Фольклорное исполнительство(соло) | E8: от 25 лет и старше (соло)
A9: 8 | C9: Фольклорное исполнительство(соло) | E9: от 25 лет и старше (соло)
A10: 9 | C10: Фольклорное исполнительство(соло) | E10: от 25 лет и старше (соло)
A11: 10 | C11: Фольклорное исполнительство(соло) | E11: от 25 лет и старше (соло)
A12: 11 | C12: Фольклорное исполнительство(соло) | E12: от 25 лет и старше (соло)
A13: 12 | C13: Фольклорное исполнительство(соло) | E13: от 25 лет и старше (соло)
... A15: 14 | C15: Фольклорное исполнительство(соло) | E15: от 25 лет и старше (соло)
A16: 15
A17: 16
A18: 17
A19: 18
A20: 19
A21: 20
A22: 21
A23: 22
A24: 23
A25: 24
A26: 25
A27: 26
... A68: 67
A69: 68 | X69: ГБОУ г.Москвы ДШИ "Тутти" | Y69: Кожевникова Наталия Орестовна | Z69: ГБОУ г.Москвы ДШИ "Тутти" | AA69: Кожевникова Наталия Орестовна | AB69: ГБОУ г.Москвы ДШИ "Тутти" | AC69: Кожевникова Наталия Орестовна | AD69: ГБОУ г.Москвы ДШИ "Тутти" | AE69: Кожевникова Наталия Орестовна | AF69: ГБОУ г.Москвы ДШИ "Тутти" | AG69: Кожевникова Наталия Орестовна | AH69: ГБОУ г.Москвы ДШИ "Тутти" | AI69: Кожевникова Наталия Орестовна | AJ69: ГБОУ г.Москвы ДШИ "Тутти" | AK69: Кожевникова Наталия Орестовна | AL69: ГБОУ г.Москвы ДШИ "Тутти" | AM69: Кожевникова Наталия Орестовна | AN69: ГБОУ г.Москвы ДШИ "Тутти" | AO69: Кожевникова Наталия Орестовна | AP69: ГБОУ г.Москвы ДШИ "Тутти" | AQ69: Кожевникова Наталия Орестовна | AR69: ГБОУ г.Москвы ДШИ "Тутти" | AS69: Кожевникова Наталия Орестовна | AT69: ГБОУ г.Москвы ДШИ "Тутти" | AU69: Кожевникова Наталия Орестовна | AV69: ГБОУ г.Москвы ДШИ "Тутти" | AW69: Кожевникова Наталия Орестовна | AX69: ГБОУ г.Москвы ДШИ "Тутти" | AY69: Кожевникова Наталия Орестовна | AZ69: ГБОУ г.Москвы ДШИ "Тутти" | BA69: Кожевникова Наталия Орестовна | BB69: ГБОУ г.Москвы ДШИ "Тутти" | BC69: Кожевникова Наталия Орестовна | BD69: ГБОУ г.Москвы ДШИ "Тутти" | BE69: Кожевникова Наталия Орестовна | BF69: ГБОУ г.Москвы ДШИ "Тутти" | BG69: Кожевникова Наталия Орестовна | BH69: ГБОУ г.Москвы ДШИ "Тутти" | BI69: Кожевникова Наталия Орестовна | BJ69: ГБОУ г.Москвы ДШИ "Тутти" | BK69: Кожевникова Наталия Орестовна | BL69: ГБОУ г.Москвы ДШИ "Тутти" | BM69: Кожевникова Наталия Орестовна | BN69: ГБОУ г.Москвы ДШИ "Тутти" | BO69: Кожевникова Наталия Орестовна | BP69: ГБОУ г.Москвы ДШИ "Тутти" | BQ69: Кожевникова Наталия Орестовна | BR69: ГБОУ г.Москвы ДШИ "Тутти" | BS69: Кожевникова Наталия Орестовна | BT69: ГБОУ г.Москвы ДШИ "Тутти" | BU69: Кожевникова Наталия Орестовна | BV69: ГБОУ г.Москвы ДШИ "Тутти" | BW69: Кожевникова Наталия Орестовна | BX69: ГБОУ г.Москвы ДШИ "Тутти" | BY69: Кожевникова Наталия Орестовна | BZ69: ГБОУ г.Москвы ДШИ "Тутти" | CA69: Кожевникова Наталия Орестовна | CB69: ГБОУ г.Москвы ДШИ "Тутти" | CC69: Кожевникова Наталия Орестовна | CD69: ГБОУ г.Москвы ДШИ "Тутти" | CE69: Кожевникова Наталия Орестовна | CF69: ГБОУ г.Москвы ДШИ "Тутти" | CG69: Кожевникова Наталия Орестовна | CH69: ГБОУ г.Москвы ДШИ "Тутти" | CI69: Кожевникова Наталия Орестовна | CJ69: ГБОУ г.Москвы ДШИ "Тутти" | CK69: Кожевникова Наталия Орестовна | CL69: ГБОУ г.Москвы ДШИ "Тутти" | CM69: Кожевникова Наталия Орестовна | CN69: ГБОУ г.Москвы ДШИ "Тутти" | CO69: Кожевникова Наталия Орестовна | CP69: ГБОУ г.Москвы ДШИ "Тутти" | CQ69: Кожевникова Наталия Орестовна | CR69: ГБОУ г.Москвы ДШИ "Тутти" | CS69: Кожевникова Наталия Орестовна | CT69: ГБОУ г.Москвы ДШИ "Тутти" | CU69: Кожевникова Наталия Орестовна | CV69: ГБОУ г.Москвы ДШИ "Тутти" | CW69: Кожевникова Наталия Орестовна | CX69: ГБОУ г.Москвы ДШИ "Тутти" | CY69: Кожевникова Наталия Орестовна | CZ69: ГБОУ г.Москвы ДШИ "Тутти" | DA69: Кожевникова Наталия Орестовна | DB69: ГБОУ г.Москвы ДШИ "Тутти" | DC69: Кожевникова Наталия Орестовна | DD69: ГБОУ г.Москвы ДШИ "Тутти" | DE69: Кожевникова Наталия Орестовна | DF69: ГБОУ г.Москвы ДШИ "Тутти" | DG69: Кожевникова Наталия Орестовна | DH69: ГБОУ г.Москвы ДШИ "Тутти" | DI69: Кожевникова Наталия Орестовна | DJ69: ГБОУ г.Москвы ДШИ "Тутти" | DK69: Кожевникова Наталия Орестовна | DL69: ГБОУ г.Москвы ДШИ "Тутти" | DM69: Кожевникова Наталия Орестовна | DN69: ГБОУ г.Москвы ДШИ "Тутти" | DO69: Кожевникова Наталия Орестовна | DP69: ГБОУ г.Москвы ДШИ "Тутти" | DQ69: Кожевникова Наталия Орестовна | DR69: ГБОУ г.Москвы ДШИ "Тутти" | DS69: Кожевникова Наталия Орестовна | DT69: ГБОУ г.Москвы ДШИ "Тутти" | DU69: Кожевникова Наталия Орестовна | DV69: ГБОУ г.Москвы ДШИ "Тутти" | DW69: Кожевникова Наталия Орестовна | DX69: ГБОУ г.Москвы ДШИ "Тутти" | DY69: Кожевникова Наталия Орестовна | DZ69: ГБОУ г.Москвы ДШИ "Тутти" | EA69: Кожевникова Наталия Орестовна | EB69: ГБОУ г.Москвы ДШИ "Тутти" | EC69: Кожевникова Наталия Орестовна | ED69: ГБОУ г.Москвы ДШИ "Тутти" | EE69: Кожевникова Наталия Орестовна | EF69: ГБОУ г.Москвы ДШИ "Тутти" | EG69: Кожевникова Наталия Орестовна | EH69: ГБОУ г.Москвы ДШИ "Тутти" | EI69: Кожевникова Наталия Орестовна | EJ69: ГБОУ г.Москвы ДШИ "Тутти" | EK69: Кожевникова Наталия Орестовна | EL69: ГБОУ г.Москвы ДШИ "Тутти" | EM69: Кожевникова Наталия Орестовна | EN69: ГБОУ г.Москвы ДШИ "Тутти" | EO69: Кожевникова Наталия Орестовна | EP69: ГБОУ г.Москвы ДШИ "Тутти" | EQ69: Кожевникова Наталия Орестовна | ER69: ГБОУ г.Москвы ДШИ "Тутти" | ES69: Кожевникова Наталия Орестовна | ET69: ГБОУ г.Москвы ДШИ "Тутти" | EU69: Кожевникова Наталия Орестовна | EV69: ГБОУ г.Москвы ДШИ "Тутти" | EW69: Кожевникова Наталия Орестовна | EX69: ГБОУ г.Москвы ДШИ "Тутти" | EY69: Кожевникова Наталия Орестовна | EZ69: ГБОУ г.Москвы ДШИ "Тутти" | FA69: Кожевникова Наталия Орестовна | FB69: ГБОУ г.Москвы ДШИ "Тутти" | FC69: Кожевникова Наталия Орестовна | FD69: ГБОУ г.Москвы ДШИ "Тутти" | FE69: Кожевникова Наталия Орестовна | FF69: ГБОУ г.Москвы ДШИ "Тутти" | FG69: Кожевникова Наталия Орестовна | FH69: ГБОУ г.Москвы ДШИ "Тутти" | FI69: Кожевникова Наталия Орестовна | FJ69: ГБОУ г.Москвы ДШИ "Тутти" | FK69: Кожевникова Наталия Орестовна | FL69: ГБОУ г.Москвы ДШИ "Тутти" | FM69: Кожевникова Наталия Орестовна | FN69: ГБОУ г.Москвы ДШИ "Тутти" | FO69: Кожевникова Наталия Орестовна | FP69: ГБОУ г.Москвы ДШИ "Тутти" | FQ69: Кожевникова Наталия Орестовна | FR69: ГБОУ г.Москвы ДШИ "Тутти" | FS69: Кожевникова Наталия Орестовна | FT69: ГБОУ г.Москвы ДШИ "Тутти" | FU69: Кожевникова Наталия Орестовна | FV69: ГБОУ г.Москвы ДШИ "Тутти" | FW69: Кожевникова Наталия Орестовна | FX69: ГБОУ г.Москвы ДШИ "Тутти" | FY69: Кожевникова Наталия Орестовна | FZ69: ГБОУ г.Москвы ДШИ "Тутти" | GA69: Кожевникова Наталия Орестовна | GB69: ГБОУ г.Москвы ДШИ "Тутти" | GC69: Кожевникова Наталия Орестовна | GD69: ГБОУ г.Москвы ДШИ "Тутти" | GE69: Кожевникова Наталия Орестовна | GF69: ГБОУ г.Москвы ДШИ "Тутти" | GG69: Кожевникова Наталия Орестовна | GH69: ГБОУ г.Москвы ДШИ "Тутти" | GI69: Кожевникова Наталия Орестовна | GJ69: ГБОУ г.Москвы ДШИ "Тутти" | GK69: Кожевникова Наталия Орестовна | GL69: ГБОУ г.Москвы ДШИ "Тутти" | GM69: Кожевникова Наталия Орестовна | GN69: ГБОУ г.Москвы ДШИ "Тутти" | GO69: Кожевникова Наталия Орестовна | GP69: ГБОУ г.Москвы ДШИ "Тутти" | GQ69: Кожевникова Наталия Орестовна | GR69: ГБОУ г.Москвы ДШИ "Тутти" | GS69: Кожевникова Наталия Орестовна | GT69: ГБОУ г.Москвы ДШИ "Тутти" | GU69: Кожевникова Наталия Орестовна | GV69: ГБОУ г.Москвы ДШИ "Тутти" | GW69: Кожевникова Наталия Орестовна | GX69: ГБОУ г.Москвы ДШИ "Тутти" | GY69: Кожевникова Наталия Орестовна | GZ69: ГБОУ г.Москвы ДШИ "Тутти" | HA69: Кожевникова Наталия Орестовна | HB69: ГБОУ г.Москвы ДШИ "Тутти" | HC69: Кожевникова Наталия Орестовна | HD69: ГБОУ г.Москвы ДШИ "Тутти" | HE69: Кожевникова Наталия Орестовна | HF69: ГБОУ г.Москвы ДШИ "Тутти" | HG69: Кожевникова Наталия Орестовна | HH69: ГБОУ г.Москвы ДШИ "Тутти" | HI69: Кожевникова Наталия Орестовна | HJ69: ГБОУ г.Москвы ДШИ "Тутти" | HK69: Кожевникова Наталия Орестовна | HL69: ГБОУ г.Москвы ДШИ "Тутти" | HM69: Кожевникова Наталия Орестовна | HN69: ГБОУ г.Москвы ДШИ "Тутти" | HO69: Кожевникова Наталия Орестовна | HP69: ГБОУ г.Москвы ДШИ "Тутти" | HQ69: Кожевникова Наталия Орестовна | HR69: ГБОУ г.Москвы ДШИ "Тутти" | HS69: Кожевникова Наталия Орестовна | HT69: ГБОУ г.Москвы ДШИ "Тутти" | HU69: Кожевникова Наталия Орестовна | HV69: ГБОУ г.Москвы ДШИ "Тутти" | HW69: Кожевникова Наталия Орестовна | HX69: ГБОУ г.Москвы ДШИ "Тутти" | HY69: Кожевникова Наталия Орестовна | HZ69: ГБОУ г.Москвы ДШИ "Тутти" | IA69: Кожевникова Наталия Орестовна | IB69: ГБОУ г.Москвы ДШИ "Тутти" | IC69: Кожевникова Наталия Орестовна | ID69: ГБОУ г.Москвы ДШИ "Тутти" | IE69: Кожевникова Наталия Орестовна | IF69: ГБОУ г.Москвы ДШИ "Тутти" | IG69: Кожевникова Наталия Орестовна | IH69: ГБОУ г.Москвы ДШИ "Тутти" | II69: Кожевникова Наталия Орестовна | IJ69: ГБОУ г.Москвы ДШИ "Тутти" | IK69: Кожевникова Наталия Орестовна | IL69: ГБОУ г.Москвы ДШИ "Тутти" | IM69: Кожевникова Наталия Орестовна | IN69: ГБОУ г.Москвы ДШИ "Тутти" | IO69: Кожевникова Наталия Орестовна | IP69: ГБОУ г.Москвы ДШИ "Тутти" | IQ69: Кожевникова Наталия Орестовна | IR69: ГБОУ г.Москвы ДШИ "Тутти" | IS69: Кожевникова Наталия Орестовна | IT69: ГБОУ г.Москвы ДШИ "Тутти" | IU69: Кожевникова Наталия Орестовна | IV69: ГБОУ г.Москвы ДШИ "Тутти" | IW69: Кожевникова Наталия Орестовна | IX69: ГБОУ г.Москвы ДШИ "Тутти"
A70: 69
A71: 70
A72: 71
A73: 72
A74: 73
A75: 74
A76: 75
A77: 76
A78: 77
A79: 78
A80: 79
A81: 80
...

Sheet АНСАМБЛЬ_Ф-3-СМЕШАН
A1: № | B1: ФИО участника | C1: Номинация | D1: Возраст/возрастная группа | E1: ФИО руководителя | F1: ФИО концертмейстера | G1: Учреждение | H1: Программа | I1: Телефон | J1: e mail | K1: Квитанция об оплате | L1: Список участников коллектива
A2: 1 | B2: Московский городской творческий коллектив фольклорный ансамбль Ерема | C2: Фольклорное исполнительство(ансамбль) | D2: Смешанная (ансамбль) | E2: Еремина Марина Васильевна | F2: Прохоров Юрий Михайлович | G2: ГБУДО г. Москвы “МГОДШИ “Измайлово” ДМШ им. В.И. Сафонова | H2: 1) Рекрутскя Липецкой области Добровского района села Ратчино Головушка моя бедная - 2 минуты 2) «Подгорная» Тербунский район Липецкая область село Вислая Поляна - 2 минуты | I2: Контактный телефон:+7 (906)055-84-22 | J2: e-mail: 2192121@rambler. | K2: 3500 | L2: 1.Умнова Полина 13 лет 2. Киршанкова Анна 14 лет 3.Матюхина Юлиана 17 лет 4. Третьякова Татьяна 14 лет 5. Улыбышева Кристина 15 лет 6. Маркова Таисия 12 лет 7. Ракитина Анна 13 лет
A3: 2 | B3: Фольклорный ансамбль "Крáсень" | C3: Фольклорное исполнительство(ансамбль) | D3: Смешанная (ансамбль) | E3: Руководитель Ковалева Елена Владимировна Педагог по традиционным инструментам Бокарëв Иван Юрьевич | G3: ГБУДО г. Москвы "ДШИ им. Е. Ф. Светланова | H3: 1. "Во батюшкином саду" лирическая с. Большебыково Красногвардейского р-на Белгородской обл. 4 мин. 2. "Дуся" припевки с. Фощеватово, Волоконовского р-на Белгородской обл. 2,35 | J3: aknep-aknel@mail.ru | K3: 3500 | L3: 1. Голубева Елизавета Юрьевна 12 2. Фастова Евдокия Андреевна, 12 3. Луценко Софья Александровна 11 4. Лобанова Мария Дмитриевна 12 5. Оленичева Мария Александровна 12 6. Оленичева Галина Александровна 15 7. Яхин Юрий Яхьевич 12 8.Кридинер Мария Брониславовна 12 9.Кридинер Мефодий Брониславович 9 10.Кридинер Александра Брониславовна 15 11.Бондарь София Сергеевна 11 12.Кабанова Мария Андреевна 10
A4: 3 | B4: Ансамбль мальчиков "На златом крыльце" | C4: Фольклорное исполнительство(ансамбль) | D4: Смешанная (ансамбль) | E4: Барайщук Виктор Андреевич | G4: ГБУДО г. Москвы "Детская школа искусств "Вдохновение" | H4: "Что по зорьке, по зоре" вечорочная песня Красноярского края 2.30 "Со Балтийского возморья" плясовая песня Волгоградской обл. 3 мин. | I4: +7 913 581-89-98 | J4: vbarayshchuk@mail.ru | L4: Фатьянов Владимир 10 лет Ларкин Дмитрий 12 лет Щемеров Богдан 11 лет Фомин Степан 13 лет Валеев Георгий 11 лет Сычев Владислав 8 лет Иванов Дмитрий 9 лет
A5: 4 | B5: Фольклорный ансамбль "Околица" | C5: Фольклорное исполнительство(ансамбль) | D5: Смешанная (ансамбль) | E5: Танский Михаил Вениаминович - художественный руководитель, Петухова Анастасия Александровна - преподаватель | F5: Танский Михаил Вениаминович - художественный руководитель, Петухова Анастасия Александровна - преподаватель | G5: ГБУДО г. Москвы "ДШИ им. С. П. Дягилева" | H5: 1) "Уж ты черный чернобровый" (лирическая) пос. Починок Починковского района Смоленской области ~03:00 2) "Таня по торгу ходила" (святковская) пос. Починок Починковского района Смоленской области ~02:30 | I5: 1anastasiyap@gmail.com | K5: 3500 | L5: 1) Пьянкова Екатерина (14 лет), 2) Деревянко Пётр (15 лет), 3) Кудрявцев Матвей (15 лет), 4) Шакурова Дарья (13 лет), 5) Ярославцева Милана (15 лет), 6) Циркунов Степан (13 лет), 7) Братчикова Ольга (15 лет), 8) Агаева Арина (15 лет), 9) Хромова Иоанна (18 лет)?, 10) Любишкина Мария (16 лет)?, 11) Пальчевская Анна (18 лет)?, 12) Погоров Михаил (18 лет)?
A6: 5 | B6: «ЛодкаFolk» | C6: Фольклорное исполнительство(ансамбль) | D6: Смешанная (ансамбль) | E6: Тарасенко Василиса Сергеевна | G6: ГБУДО г. Москва «ДШИ им. М.А. Балакирева» | H6: 1. Да страдала я маслену - с. Фощеватово Волоконовскрго района Белгородской области 2. Липецкие страдания | I6: 89606016997 | J6: vasilisatarasenko71@gmail.com | K6: 3500 | L6: 1. Вавулина Полина 15 2. Ероян Мария 15 3. Кузнецова Полина 16 4.Марусев Михаил 15 5. Тарасенко Василиса 25
A7: 6 | B7: Образцовый художественный коллектив Фольклорный ансамбль «Древенка» (старшая группа) | C7: Фольклорное исполнительство(ансамбль) | D7: Смешанная (ансамбль) | E7: Меркулова Елена Вячеславовна | G7: Муниципальное бюджетное учреждение дополнительного образования городского округа Самара «Детская музыкальная школа №19» (МБУ ДО г.о. Самара «Детская музыкальная школа №19») | H7: 1.«У мого-то у милого» - лирическая песня Самарской области. Запевает Пипичина Вероника. 2.«Дуня, Дуня, Дуня я» - плясовая песня Сергиевского района Самарской области. Запевает Середа Бэлла. | I7: 89277146665 | J7: merk.eduard@yandex.ru | L7: ОПЛАТЯТ В ПОНЕДЕЛЬНИК
A8: 1 | B8: Дуэт Алексеева Ангелина и Кузнецова Екатерина | C8: Фольклорное исполнительство(ансамбль) | D8: от 16 лет и старше (ансамбль) | E8: Шибанова Анна Андреевна кандидат педагогических наук | G8: МГИМ ИМ.А.Г.ШНИТКЕ | H8: 1. Колосковские страдания 2.5 мин 2. Брови мои брови (Пензенская обл.) 2,5 мин | I8: +7 926 065-80-65 | J8: Parampari@mail.ru, a.shibanova@mail.ru | L8: Алексеева Ангелина Владимировна 22 года Кузнецова Екатерина Сергеевна 24 года ОПЛАТЯТ СЕГОДНЯ
A9: 2 | C9: Фольклорное исполнительство(ансамбль) | D9: от 16 лет и старше (ансамбль)
A10: 3 | C10: Фольклорное исполнительство(ансамбль) | D10: от 16 лет и старше (ансамбль)
A11: 4 | C11: Фольклорное исполнительство(ансамбль) | D11: от 16 лет и старше (ансамбль)
A12: 1 | C12: Фольклорное исполнительство(ансамбль) | D12: Учитель-Ученик (ансамбль)
A13: 2 | C13: Фольклорное исполнительство(ансамбль) | D13: Учитель-Ученик (ансамбль)
A14: 3 | C14: Фольклорное исполнительство(ансамбль) | D14: Учитель-Ученик (ансамбль)
A15: 4 | C15: Фольклорное исполнительство(ансамбль) | D15: Учитель-Ученик (ансамбль)
A16: 5 | C16: Фольклорное исполнительство(ансамбль) | D16: Учитель-Ученик (ансамбль)
A17: 16 | C17: Фольклорное исполнительство(ансамбль) | D17: Учитель-Ученик (ансамбль)
A18: 17 | C18: Фольклорное исполнительство(ансамбль) | D18: Учитель-Ученик (ансамбль)
A19: 18 | C19: Фольклорное исполнительство(ансамбль) | D19: Учитель-Ученик (ансамбль)
A20: 20 | C20: Фольклорное исполнительство(ансамбль) | D20: Учитель-Ученик (ансамбль)
... A48: 48 | C48: Фольклорное исполнительство(ансамбль) | D48: от 16 лет и старше (ансамбль)
A49: 51
A50: 52
A51: 53
A52: 54
A53: 55
A54: 56
A55: 57
A56: 58
A57: 59
A58: 60
A59: 61
A60: 62
... A65: 67
